BEGIN:VCALENDAR
VERSION:2.0
PRODID:-//Tukios.com/
BEGIN:VEVENT
UID:e80b326a-961f-43f4-9490-b9f93c6c1f88@www.woodtickmemorial.com
DTSTAMP:20260421T003405Z
DTSTART:20260430T210000Z
DTEND:20260430T230000Z
SUMMARY:Visitation
DESCRIPTION:
URL:https://www.woodtickmemorial.com/obituaries/joan-patterson
LOCATION:Woodtick Memorial 420 Woodtick Rd  Wolcott CT 06716
GEO:41.5793507;-72.9769056
END:VEVENT
END:VCALENDAR