BEGIN:VCALENDAR
VERSION:2.0
PRODID:-//Tukios.com/
BEGIN:VEVENT
UID:b9233453-6fc2-4a94-b1d2-557815deda87@www.woodtickmemorial.com
DTSTAMP:20260421T005143Z
DTSTART:20260425T150000Z
DTEND:20260425T160000Z
SUMMARY:Mass
DESCRIPTION:
URL:https://www.woodtickmemorial.com/obituaries/gerald-guerrette
LOCATION: 14 Bentwood Drive  Waterbury CT 06705
GEO:41.5491087;-72.9751572
END:VEVENT
END:VCALENDAR