BEGIN:VCALENDAR
VERSION:2.0
PRODID:-//Tukios.com/
BEGIN:VEVENT
UID:f9dcd389-fc28-41a0-b1ea-d603f046e057@www.woodtickmemorial.com
DTSTAMP:20260421T005106Z
DTSTART:20260423T200000Z
DTEND:20260423T230000Z
SUMMARY:Visitation
DESCRIPTION:
URL:https://www.woodtickmemorial.com/obituaries/gerald-guerrette
LOCATION:Woodtick Memorial 420 Woodtick Rd  Wolcott CT 06716
GEO:41.5793507;-72.9769056
END:VEVENT
END:VCALENDAR